BEGIN:VCALENDAR
VERSION:2.0
PRODID:-//ChamberMaster//Event Calendar 2.0//EN
METHOD:PUBLISH
X-PUBLISHED-TTL:P3D
REFRESH-INTERVAL:P3D
CALSCALE:GREGORIAN
BEGIN:VEVENT
DTSTART:20130427T160000Z
DTEND:20130427T170000Z
X-MICROSOFT-CDO-ALLDAYEVENT:FALSE
SUMMARY:"Building Healthy Soils"
DESCRIPTION:Speaker: Jay Mertz\, founder of Rabbit Hill Farm
X-ALT-DESC;FMTTYPE=text/html:Speaker: Jay Mertz\, founder of Rabbit Hill Farm
LOCATION:Bastrop Gardens Organic Garden Center / 316 Old 71\, Cedar Creek
UID:e.2762.1019
SEQUENCE:3
DTSTAMP:20260421T001041Z
URL:http://smithvilletx.chambermaster.com/events/details/building-healthy-soils-04-27-2013-1019
END:VEVENT

END:VCALENDAR
